BEGIN:VCALENDAR
PRODID:-//github.com/rianjs/ical.net//NONSGML ical.net 4.0//EN
VERSION:2.0
BEGIN:VEVENT
DESCRIPTION:Details:\nhttps://bbyo.org/bbyo-near-you/regions/northern-regi
 on-east-northern-virginia-council/nre-nova-council-sweetheart-hearthrob-2
 018
DTEND:20180225T000100
DTSTAMP:20260423T081825Z
DTSTART;VALUE=DATE:20180224
LOCATION:
SEQUENCE:0
SUMMARY:NRE: NoVA Council Sweetheart Hearthrob 2018
UID:285c9624-42e4-445c-8be8-5cf10a3ea9c4
END:VEVENT
END:VCALENDAR
