BEGIN:VCALENDAR
PRODID:-//github.com/rianjs/ical.net//NONSGML ical.net 4.0//EN
VERSION:2.0
BEGIN:VEVENT
DESCRIPTION:Details:\nhttps://bbyo.org/bbyo-near-you/regions/northern-regi
 on-east-dc-council/nretreat-baltimore\,-nova\,-and-dc-council-board-tr\n\
 nSummary:\nThursday will take place in Montgomery County and the teens wi
 ll sleep at a DC Council board members home on Thursday evening. Friday w
 ill take place at the International Office in DC. Teens
DTEND:20150821T150000
DTSTAMP:20260419T213552Z
DTSTART:20150820T103000
LOCATION:Rockville and BBYO International Office
SEQUENCE:0
SUMMARY:NREtreat: Baltimore\, NoVa\, and DC Council Board Training
UID:ddc907e1-d483-4fb9-9e64-50fdd976a398
END:VEVENT
END:VCALENDAR
