BEGIN:VCALENDAR
PRODID:-//github.com/rianjs/ical.net//NONSGML ical.net 4.0//EN
VERSION:2.0
BEGIN:VEVENT
DESCRIPTION:Details:\nhttps://bbyo.org/bbyo-near-you/regions/mid-america-r
 egion-kansas-city-council/new-member-overnight-ait-mit\n\nSummary:\nJoin 
 us for New Member Overnight\; AIT/MIT! Weather changes included below\n\n
 When: Friday September 27th 5:30-11 PM
DTEND:20190928T100000
DTSTAMP:20260422T084822Z
DTSTART:20190927T173000
LOCATION:Overland Park Kansas
SEQUENCE:0
SUMMARY:New Member Overnight: AIT/MIT
UID:3e365048-405a-48c8-9894-b6c3e4c9e5ef
END:VEVENT
END:VCALENDAR
