BEGIN:VCALENDAR
PRODID:-//github.com/rianjs/ical.net//NONSGML ical.net 4.0//EN
VERSION:2.0
BEGIN:VEVENT
DESCRIPTION:Details:\nhttps://bbyo.org/bbyo-near-you/regions/wisconsin-reg
 ion/wi-ylc-2017-regular-registration-(pc-3010)\n\nSummary:\nAre you ready
  to learn everything you need to know about BBYO and to have an amazing t
 ime doing it?  We think you are… The Regional Board invites you to Young 
 Leadership Conference (aka YLC)
DTEND;VALUE=DATE:20170319
DTSTAMP:20260425T182955Z
DTSTART:20170317T160000
LOCATION:
SEQUENCE:0
SUMMARY:WI - YLC 2017 - Regular Registration (PC 3010)
UID:725a72d5-8b1a-45d3-9fc5-f312d9cbf1f8
END:VEVENT
END:VCALENDAR
