BEGIN:VCALENDAR
PRODID:-//github.com/rianjs/ical.net//NONSGML ical.net 4.0//EN
VERSION:2.0
BEGIN:VEVENT
DESCRIPTION:Details:\nhttps://bbyo.org/bbyo-near-you/regions/kentucky-indi
 ana-ohio-region/corn-maze-havdallah
DTEND:20171028T000100
DTSTAMP:20260423T093652Z
DTSTART;VALUE=DATE:20171028
LOCATION:
SEQUENCE:0
SUMMARY:Corn Maze Havdallah
UID:4c3192d2-1434-4449-a04b-bb1a2412a078
END:VEVENT
END:VCALENDAR
