BEGIN:VCALENDAR
PRODID:-//github.com/rianjs/ical.net//NONSGML ical.net 4.0//EN
VERSION:2.0
BEGIN:VEVENT
DESCRIPTION:Details:\nhttps://bbyo.org/bbyo-near-you/regions/kentucky-indi
 ana-ohio-region/drew-corson/louisville-giving-bbyo-day!
DTEND:20231128T200000
DTSTAMP:20260422T171928Z
DTSTART:20231128T180000
LOCATION:Louisville Kentucky
SEQUENCE:0
SUMMARY:Louisville Giving BBYO Day!
UID:35520f4b-f9a9-4e9b-b1de-117fb4ba570d
END:VEVENT
END:VCALENDAR
