BEGIN:VCALENDAR
PRODID:-//github.com/rianjs/ical.net//NONSGML ical.net 4.0//EN
VERSION:2.0
BEGIN:VEVENT
DESCRIPTION:Details:\nhttps://bbyo.org/bbyo-near-you/regions/eastern-regio
 n/charleston-bbyo-pool-party-kickoff-2024
DTEND:20240929T200000
DTSTAMP:20260423T195723Z
DTSTART:20240929T173000
LOCATION:Annie's House
SEQUENCE:0
SUMMARY:Charleston BBYO Pool Party Kickoff 2024
UID:bd83cfe4-c449-45eb-ac22-f74a1edb2358
END:VEVENT
END:VCALENDAR
