BEGIN:VCALENDAR
PRODID:-//github.com/rianjs/ical.net//NONSGML ical.net 4.0//EN
VERSION:2.0
BEGIN:VEVENT
DESCRIPTION:Details:\nhttps://bbyo.org/bbyo-near-you/regions/mountain-regi
 on/tucson-azaa-bbgg-field-day-at-tha
DTEND:20211024T150000
DTSTAMP:20260419T123021Z
DTSTART:20211024T110000
LOCATION:Tucson Arizona
SEQUENCE:0
SUMMARY:Tucson AZAA + BBGG Field Day at THA
UID:f7beb576-2262-4a45-88e9-863235337020
END:VEVENT
END:VCALENDAR
