BEGIN:VCALENDAR
PRODID:-//github.com/rianjs/ical.net//NONSGML ical.net 4.0//EN
VERSION:2.0
BEGIN:VEVENT
DESCRIPTION:Details:\nhttps://bbyo.org/bbyo-near-you/regions/north-texas-o
 klahoma-region/chapter-counterpart-meeting-(1)
DTEND:20240324T140000
DTSTAMP:20260420T132327Z
DTSTART:20240324T130000
LOCATION:Anshai Torah
SEQUENCE:0
SUMMARY:Chapter Counterpart Meeting
UID:20e48f33-aa0a-48e8-a83e-2f3f37b3c79e
END:VEVENT
END:VCALENDAR
