BEGIN:VCALENDAR
PRODID:-//github.com/rianjs/ical.net//NONSGML ical.net 4.0//EN
VERSION:2.0
BEGIN:VEVENT
DESCRIPTION:Details:\nhttps://bbyo.org/bbyo-near-you/regions/rocky-mountai
 n-region/azaa-bbgg
DTEND:20221207T210000
DTSTAMP:20260421T002211Z
DTSTART:20221207T190000
LOCATION:Denver JCC
SEQUENCE:0
SUMMARY:AZAA/BBGG
UID:d9887024-c5b0-4b02-8365-e9f72837f0cc
END:VEVENT
END:VCALENDAR
