BEGIN:VCALENDAR
PRODID:-//github.com/rianjs/ical.net//NONSGML ical.net 4.0//EN
VERSION:2.0
BEGIN:VEVENT
DESCRIPTION:Details:\nhttps://bbyo.org/bbyo-near-you/regions/liberty-regio
 n/liberty-regional-board-training-2021
DTEND:20210826T183000
DTSTAMP:20260423T195836Z
DTSTART:20210825T100000
LOCATION:
SEQUENCE:0
SUMMARY:Liberty Regional Board Training 2021
UID:e09b880f-176d-4b7a-990b-c944f0650345
END:VEVENT
END:VCALENDAR
