BEGIN:VCALENDAR
PRODID:-//github.com/rianjs/ical.net//NONSGML ical.net 4.0//EN
VERSION:2.0
BEGIN:VEVENT
DESCRIPTION:Details:\nhttps://bbyo.org/bbyo-near-you/regions/mid-america-r
 egion-kansas-city-council/bbyo-period-packing-party
DTEND:20240229T183000
DTSTAMP:20260423T093329Z
DTSTART:20240229T173000
LOCATION:JCC\, Main Lobby
SEQUENCE:0
SUMMARY:BBYO Period Packing Party
UID:b5eea774-cbae-4dab-b981-7f1d35ba152a
END:VEVENT
END:VCALENDAR
