BEGIN:VCALENDAR
PRODID:-//github.com/rianjs/ical.net//NONSGML ical.net 4.0//EN
VERSION:2.0
BEGIN:VEVENT
DESCRIPTION:Details:\nhttps://bbyo.org/bbyo-near-you/regions/northern-regi
 on-east-northern-virginia-council/nltc-(chapter-leadership-training)
DTEND:20220911T170000
DTSTAMP:20260425T235514Z
DTSTART:20220911T120000
LOCATION:Fairfax Virginia
SEQUENCE:0
SUMMARY:NLTC (Chapter Leadership Training)
UID:adda87e4-b3b6-4c19-ab6e-6589a2157909
END:VEVENT
END:VCALENDAR
