BEGIN:VCALENDAR
PRODID:-//github.com/rianjs/ical.net//NONSGML ical.net 4.0//EN
VERSION:2.0
BEGIN:VEVENT
DESCRIPTION:Details:\nhttps://bbyo.org/bbyo-near-you/regions/wisconsin-reg
 ion/wi-oneg-9-20-19
DTEND:20190920T170000
DTSTAMP:20260423T200917Z
DTSTART:20190920T150000
LOCATION:BBYO Offices
SEQUENCE:0
SUMMARY:WI - Oneg - 9.20.19
UID:7314a3a0-2ce6-4e3f-a575-61cfde0c285c
END:VEVENT
END:VCALENDAR
