BEGIN:VCALENDAR
PRODID:-//github.com/rianjs/ical.net//NONSGML ical.net 4.0//EN
VERSION:2.0
BEGIN:VEVENT
DESCRIPTION:Details:\nhttps://bbyo.org/bbyo-near-you/regions/wisconsin-reg
 ion/wi-oneg-9-28-18\n\nSummary:\nDCohneg!
DTEND:20180928T170000
DTSTAMP:20260423T203135Z
DTSTART:20180928T151500
LOCATION:BBYO Offices
SEQUENCE:0
SUMMARY:WI - Oneg - 9.28.18
UID:5a7d16ae-5902-4a44-9240-c21decac55be
END:VEVENT
END:VCALENDAR
