BEGIN:VCALENDAR
PRODID:-//github.com/rianjs/ical.net//NONSGML ical.net 4.0//EN
VERSION:2.0
BEGIN:VEVENT
DESCRIPTION:Details:\nhttps://bbyo.org/bbyo-near-you/regions/mountain-regi
 on/mockingjay-mountain-region
DTEND;VALUE=DATE:20151119
DTSTAMP:20260423T195527Z
DTSTART;VALUE=DATE:20151119
LOCATION:
SEQUENCE:0
SUMMARY:Mockingjay Mountain Region
UID:ba42ee68-0649-4cac-be96-c5f2dd67eb09
END:VEVENT
END:VCALENDAR
