BEGIN:VCALENDAR
PRODID:-//github.com/rianjs/ical.net//NONSGML ical.net 4.0//EN
VERSION:2.0
BEGIN:VEVENT
DESCRIPTION:Details:\nhttps://bbyo.org/bbyo-near-you/regions/south-jersey-
 region/sjr-fall-chapter-board-training-institute-(bti-(1)
DTEND:20220918T143000
DTSTAMP:20260423T200527Z
DTSTART:20220918T100000
LOCATION:Cherry Hill New Jersey
SEQUENCE:0
SUMMARY:SJR Fall Chapter Board Training Institute (BTI)
UID:92d367a9-5b9f-4b40-8943-e312d6eb1cee
END:VEVENT
END:VCALENDAR
