BEGIN:VCALENDAR
PRODID:-//github.com/rianjs/ical.net//NONSGML ical.net 4.0//EN
VERSION:2.0
BEGIN:VEVENT
DESCRIPTION:Details:\nhttps://bbyo.org/bbyo-near-you/regions/nassau-suffol
 k-region/international-convention\n\nSummary:\nIC
DTEND:20070223T170000
DTSTAMP:20260422T054917Z
DTSTART:20070216T090000
LOCATION:TBA
SEQUENCE:0
SUMMARY:International Convention
UID:07ac0344-b1af-438b-9725-3f2ee03c203d
END:VEVENT
END:VCALENDAR
