BEGIN:VCALENDAR
PRODID:-//github.com/rianjs/ical.net//NONSGML ical.net 4.0//EN
VERSION:2.0
BEGIN:VEVENT
DESCRIPTION:Details:\nhttps://bbyo.org/bbyo-near-you/regions/gold-coast-re
 gion/gcr-mit-ait-2017-(pc3010)\n\nSummary:\nLOCATION:          \nLake Pla
 cid Camp and Conference Center\n2665 Placid View Drive.\nLake Placid\, FL
  33852\n\nDATE:                    \nFriday\, January 20th- Sunday\, Janu
 ary 22nd\n Please
DTEND:20170122T120000
DTSTAMP:20260421T223737Z
DTSTART:20170120T160000
LOCATION:Lake Placid Camp and Conference Center
SEQUENCE:0
SUMMARY:GCR MIT AIT 2017 (PC3010)
UID:6215e0ac-958a-4ba1-a96e-bef5276fea21
END:VEVENT
END:VCALENDAR
