BEGIN:VCALENDAR
PRODID:-//github.com/rianjs/ical.net//NONSGML ical.net 4.0//EN
VERSION:2.0
BEGIN:VEVENT
DESCRIPTION:Details:\nhttps://bbyo.org/bbyo-near-you/regions/rocky-mountai
 n-region/jserve-2023
DTEND:20230402T150000
DTSTAMP:20260423T002129Z
DTSTART:20230402T130000
LOCATION:Kavod Senior Living
SEQUENCE:0
SUMMARY:Jserve 2023
UID:84c8bd62-8ceb-47fe-98aa-b0605ea3adc6
END:VEVENT
END:VCALENDAR
