BEGIN:VCALENDAR
PRODID:-//github.com/rianjs/ical.net//NONSGML ical.net 4.0//EN
VERSION:2.0
BEGIN:VEVENT
DESCRIPTION:Details:\nhttps://bbyo.org/bbyo-near-you/regions/eastern-regio
 n/simchat-torah-apple-picking-with-charlottesville-b
DTEND:20171015T000100
DTSTAMP:20260425T194703Z
DTSTART;VALUE=DATE:20171015
LOCATION:
SEQUENCE:0
SUMMARY:Simchat Torah Apple Picking with Charlottesville BBYO
UID:b05bacf3-96c7-478e-a028-06048ceb503f
END:VEVENT
END:VCALENDAR
