BEGIN:VCALENDAR
PRODID:-//github.com/rianjs/ical.net//NONSGML ical.net 4.0//EN
VERSION:2.0
BEGIN:VEVENT
DESCRIPTION:Details:\nhttps://bbyo.org/bbyo-near-you/regions/delta-region/
 lti-chapter-xx-s\n\nSummary:\nDelta Region is excited to be hosting their
  FIRST EVER Chapter XX's experience. Kicking off the #DeltaFam WOW (Week 
 of Welcome) we invite ALL chapter board members to gather over the weeken
 d of September 12-13 over zoom to launch an incredible year ahead.
DTEND:20200913T170000
DTSTAMP:20260419T191221Z
DTSTART:20200912T190000
LOCATION:zoom
SEQUENCE:0
SUMMARY:LTI / Chapter XX's
UID:ef43f430-d121-437f-b111-fdbdcdace315
END:VEVENT
END:VCALENDAR
