BEGIN:VCALENDAR
PRODID:-//github.com/rianjs/ical.net//NONSGML ical.net 4.0//EN
VERSION:2.0
BEGIN:VEVENT
DESCRIPTION:Details:\nhttps://bbyo.org/bbyo-near-you/regions/north-texas-o
 klahoma-region/dallas-council-flag-football-(1)\n\nSummary:\nAZA Flag Foo
 tball\n6pm - 1st place team v. 4th place team\n7pm - 2nd place team v. 3r
 d place team\n8pm - Championship game
DTEND:20061210T210000
DTSTAMP:20260424T214009Z
DTSTART:20061210T180000
LOCATION:JCC of Dallas
SEQUENCE:0
SUMMARY:Dallas Council Flag Football
UID:6c404a23-834b-4c35-8c4c-8b5cf0e99c67
END:VEVENT
END:VCALENDAR
