BEGIN:VCALENDAR
PRODID:-//github.com/rianjs/ical.net//NONSGML ical.net 4.0//EN
VERSION:2.0
BEGIN:VEVENT
DESCRIPTION:Details:\nhttps://bbyo.org/bbyo-near-you/regions/evergreen-reg
 ion/egr-eugene-kickoff
DTEND:20170826T000100
DTSTAMP:20260425T182702Z
DTSTART;VALUE=DATE:20170826
LOCATION:
SEQUENCE:0
SUMMARY:EGR-Eugene Kickoff
UID:3e6cef21-8c5d-4214-be9d-75cc5522d100
END:VEVENT
END:VCALENDAR
