BEGIN:VCALENDAR
PRODID:-//github.com/rianjs/ical.net//NONSGML ical.net 4.0//EN
VERSION:2.0
BEGIN:VEVENT
DESCRIPTION:Details:\nhttps://bbyo.org/bbyo-near-you/regions/pacific-weste
 rn-region/aza-shabbat\n\nSummary:\nJoin the AZA members of PWR for a brot
 herhood Shabbat.  Ice Breaker\, Kahoot\, Shabbat Ceremony and more!
DTEND:20201023T183000
DTSTAMP:20260423T042559Z
DTSTART:20201023T173000
LOCATION:Zoom
SEQUENCE:0
SUMMARY:AZA Shabbat
UID:142a3aad-88c2-4964-9430-d74cf0ba8b4c
END:VEVENT
END:VCALENDAR
