BEGIN:VCALENDAR
PRODID:-//github.com/rianjs/ical.net//NONSGML ical.net 4.0//EN
VERSION:2.0
BEGIN:VEVENT
DESCRIPTION:Details:\nhttps://bbyo.org/bbyo-near-you/regions/wisconsin-reg
 ion/spring-regional-convention-2024-wild-west-wisconsi
DTEND:20240519T160000
DTSTAMP:20260423T002458Z
DTSTART:20240517T160000
LOCATION:OSRUI
SEQUENCE:0
SUMMARY:Spring Regional Convention 2024: Wild West Wisconsin
UID:55ef872c-ce81-409a-b8ef-5e77ca8cdfd7
END:VEVENT
END:VCALENDAR
