BEGIN:VCALENDAR
PRODID:-//github.com/rianjs/ical.net//NONSGML ical.net 4.0//EN
VERSION:2.0
BEGIN:VEVENT
DESCRIPTION:Details:\nhttps://bbyo.org/bbyo-near-you/regions/north-texas-o
 klahoma-region/tulsa-gbd-calling-party-(1)
DTEND:20231128T200000
DTSTAMP:20260423T195733Z
DTSTART:20231128T180000
LOCATION:Lydia Lapidus Aprtment Complex
SEQUENCE:0
SUMMARY:Tulsa GBD Calling Party
UID:513afafe-7e58-4975-85e9-bb4e2249ca8e
END:VEVENT
END:VCALENDAR
