BEGIN:VCALENDAR
PRODID:-//github.com/rianjs/ical.net//NONSGML ical.net 4.0//EN
VERSION:2.0
BEGIN:VEVENT
DESCRIPTION:Details:\nhttps://bbyo.org/bbyo-near-you/regions/great-midwest
 -region/haganah-invite-prep-(1)
DTEND:20231112T160000
DTSTAMP:20260420T132328Z
DTSTART:20231112T140000
LOCATION:Reece's House
SEQUENCE:0
SUMMARY:Haganah Invite Prep
UID:2b4ea4b6-bb4a-47d0-b6ef-3b9e6a1c9173
END:VEVENT
END:VCALENDAR
