BEGIN:VCALENDAR
PRODID:-//github.com/rianjs/ical.net//NONSGML ical.net 4.0//EN
VERSION:2.0
BEGIN:VEVENT
DESCRIPTION:Details:\nhttps://bbyo.org/bbyo-near-you/regions/keystone-moun
 tain-region/aza-top-golf\n\nSummary:\nJoin the Alephs of KMR for a free d
 ay at Top Golf
DTEND:20210418T163000
DTSTAMP:20260421T073200Z
DTSTART:20210418T143000
LOCATION:Top Golf Pittsburgh
SEQUENCE:0
SUMMARY:AZA Top Golf
UID:aabc4226-e93b-4e3f-9743-1374fade44ce
END:VEVENT
END:VCALENDAR
