BEGIN:VCALENDAR
PRODID:-//github.com/rianjs/ical.net//NONSGML ical.net 4.0//EN
VERSION:2.0
BEGIN:VEVENT
DESCRIPTION:Details:\nhttps://bbyo.org/bbyo-near-you/regions/mid-america-r
 egion-kansas-city-council/kcc-powderpuff-football-(2)
DTEND:20220918T160000
DTSTAMP:20260424T063713Z
DTSTART:20220918T150000
LOCATION:
SEQUENCE:0
SUMMARY:KCC Powderpuff Football
UID:dbd12ff7-1b60-42b3-a1d7-5253e3ad35e8
END:VEVENT
END:VCALENDAR
