BEGIN:VCALENDAR
PRODID:-//github.com/rianjs/ical.net//NONSGML ical.net 4.0//EN
VERSION:2.0
BEGIN:VEVENT
DESCRIPTION:Details:\nhttps://bbyo.org/bbyo-near-you/regions/greater-jerse
 y-region/yltc-2
DTEND;VALUE=DATE:20161204
DTSTAMP:20260422T101413Z
DTSTART;VALUE=DATE:20161204
LOCATION:
SEQUENCE:0
SUMMARY:YLTC 2
UID:5724c462-38ba-4c7d-995f-529c36750829
END:VEVENT
END:VCALENDAR
