BEGIN:VCALENDAR
PRODID:-//github.com/rianjs/ical.net//NONSGML ical.net 4.0//EN
VERSION:2.0
BEGIN:VEVENT
DESCRIPTION:Details:\nhttps://bbyo.org/bbyo-near-you/regions/nassau-suffol
 k-region/nsr-manhattan-bus-to-ic\n\nSummary:\nBus transportation TO IC fo
 r Nassau-Suffolk and Manhattan Regions.  Busses will depart Plainview\, N
 Y and will stop in Manhattan on the way to Baltimore.
DTEND:20160211T160000
DTSTAMP:20260423T201045Z
DTSTART:20160211T100000
LOCATION:Mid Island Y JCC
SEQUENCE:0
SUMMARY:NSR/Manhattan Bus TO IC
UID:acc2a5a9-7dee-41f5-a151-c0a057ec285a
END:VEVENT
END:VCALENDAR
