BEGIN:VCALENDAR
PRODID:-//github.com/rianjs/ical.net//NONSGML ical.net 4.0//EN
VERSION:2.0
BEGIN:VEVENT
DESCRIPTION:Details:\nhttps://bbyo.org/bbyo-near-you/regions/michigan-regi
 on/mi-spring-convention-2017\,-early-bird-registration
DTEND:20170507T170000
DTSTAMP:20260425T183326Z
DTSTART:20170505T160000
LOCATION:Camp Tamarack
SEQUENCE:0
SUMMARY:MI Spring Convention 2017\, EARLY BIRD REGISTRATION (PC 3020)
UID:1a5480d5-08f4-4c8b-8556-89ed76264842
END:VEVENT
END:VCALENDAR
