BEGIN:VCALENDAR
PRODID:-//github.com/rianjs/ical.net//NONSGML ical.net 4.0//EN
VERSION:2.0
BEGIN:VEVENT
DESCRIPTION:Details:\nhttps://bbyo.org/bbyo-near-you/regions/lonestar-regi
 on/cltc-2-2022\n\nSummary:\nChapter Leadership Training Conference (CLTC)
  is BBYO&rsquo\;s premier\, hands-on leadership experience for current 9t
 h and 10th grade members.
DTEND:20220703T090000
DTSTAMP:20260421T051115Z
DTSTART:20220621T090000
LOCATION:Wayne County Pennsylvania
SEQUENCE:0
SUMMARY:CLTC 2 2022
UID:53386a46-bd7e-4381-af0d-0de3323d8b53
END:VEVENT
END:VCALENDAR
