BEGIN:VCALENDAR
PRODID:-//github.com/rianjs/ical.net//NONSGML ical.net 4.0//EN
VERSION:2.0
BEGIN:VEVENT
DESCRIPTION:Details:\nhttps://bbyo.org/bbyo-near-you/regions/north-texas-o
 klahoma-region/nto-summer-sendoff-(1)
DTEND:20230531T223000
DTSTAMP:20260422T202415Z
DTSTART:20230531T190500
LOCATION:Frisco Texas
SEQUENCE:0
SUMMARY:NTO Summer Sendoff
UID:a846c3ca-7b56-41b5-b6dc-3ad25efae11e
END:VEVENT
END:VCALENDAR
