BEGIN:VCALENDAR
PRODID:-//github.com/rianjs/ical.net//NONSGML ical.net 4.0//EN
VERSION:2.0
BEGIN:VEVENT
DESCRIPTION:Details:\nhttps://bbyo.org/bbyo-near-you/regions/greater-jerse
 y-region/central-council-installations
DTEND:20160602T203000
DTSTAMP:20260422T202436Z
DTSTART:20160602T190000
LOCATION:Mia Reingold's House
SEQUENCE:0
SUMMARY:Central Council Installations
UID:84ad8fbe-d9e1-41e5-b7d2-15784ce97954
END:VEVENT
END:VCALENDAR
