BEGIN:VCALENDAR
PRODID:-//github.com/rianjs/ical.net//NONSGML ical.net 4.0//EN
VERSION:2.0
BEGIN:VEVENT
DESCRIPTION:Details:\nhttps://bbyo.org/bbyo-near-you/regions/pacific-weste
 rn-region/pwr-ic-spirit-pack-order\n\nSummary:\nRegister here and purchas
 e an IC Spirit pack! Get custom t-shirt and more! This is your 1 opportun
 ity to get our exculsive 2019 IC Spirit Pack! Order will be taken now thr
 ough
DTEND:20190124T050000
DTSTAMP:20260425T194341Z
DTSTART:20190124T030000
LOCATION:ONLINE ONLY
SEQUENCE:0
SUMMARY:PWR IC SPIRIT PACK ORDER
UID:f2842a90-c92f-4458-83cf-084d48191740
END:VEVENT
END:VCALENDAR
