BEGIN:VCALENDAR
PRODID:-//github.com/rianjs/ical.net//NONSGML ical.net 4.0//EN
VERSION:2.0
BEGIN:VEVENT
DESCRIPTION:Details:\nhttps://bbyo.org/bbyo-near-you/regions/ohio-northern
 -region/31st-regional-board-training
DTEND:20160521T213000
DTSTAMP:20260420T131123Z
DTSTART:20160520T180000
LOCATION:TBD
SEQUENCE:0
SUMMARY:31st Regional Board Training
UID:f0f408bc-2581-4e80-8ab6-13a152f1da7d
END:VEVENT
END:VCALENDAR
