BEGIN:VCALENDAR
PRODID:-//github.com/rianjs/ical.net//NONSGML ical.net 4.0//EN
VERSION:2.0
BEGIN:VEVENT
DESCRIPTION:Details:\nhttps://bbyo.org/bbyo-near-you/regions/new-england-r
 egion/ner-beau-sweetheart-dance-(pc5000)\n\nSummary:\nCome out for the cl
 assiest Back to the 50's Beau Sweetheart Dance with BBYO New England Regi
 on! Music\, dancing\, food\, good friends\, and fun! For all Jewish Teens
  in grades 8 - 12 - don't mis
DTEND:20170304T220000
DTSTAMP:20260423T133830Z
DTSTART:20170304T190000
LOCATION:Temple Israel of Natick
SEQUENCE:0
SUMMARY:NER - Beau Sweetheart Dance - (PC5000)
UID:752dd17a-367f-41cf-9357-d9af34ea6004
END:VEVENT
END:VCALENDAR
