BEGIN:VCALENDAR
PRODID:-//github.com/rianjs/ical.net//NONSGML ical.net 4.0//EN
VERSION:2.0
BEGIN:VEVENT
DESCRIPTION:Details:\nhttps://bbyo.org/bbyo-near-you/regions/delta-region/
 nash-bbyo-fall-kickoff\n\nSummary:\nCalling all 9th-12th grade Jewish tee
 ns in Nashville and Middle TN! You're are invited to the Laurelbrooke Clu
 bhouse on Saturday\, September 7th at 7pm for a GLOW UP THE NIGHT Fall Ki
 ck-off pool party!
DTEND:20190907T213000
DTSTAMP:20260422T202436Z
DTSTART:20190907T190000
LOCATION:Franklin Tennessee
SEQUENCE:0
SUMMARY:Nash BBYO Fall Kickoff
UID:f262fd92-1763-4240-b1f5-90a0fa941c75
END:VEVENT
END:VCALENDAR
