BEGIN:VCALENDAR
PRODID:-//github.com/rianjs/ical.net//NONSGML ical.net 4.0//EN
VERSION:2.0
BEGIN:VEVENT
DESCRIPTION:Details:\nhttps://bbyo.org/bbyo-near-you/regions/lonestar-regi
 on/ghc-bbgg-kickoff\n\nSummary:\nWe are so excited to launch our first ev
 er BBGG program this fall! We are partnering with Define Body & Mind to o
 ffer fun classes throughout the year! Our first kickoff class will be a c
 ombi
DTEND:20180916T140000
DTSTAMP:20260421T163256Z
DTSTART:20180916T130000
LOCATION:Houston Texas
SEQUENCE:0
SUMMARY:GHC BBGG Kickoff
UID:aa19963e-43e3-481e-b35d-344bd44efa5c
END:VEVENT
END:VCALENDAR
