BEGIN:VCALENDAR
PRODID:-//github.com/rianjs/ical.net//NONSGML ical.net 4.0//EN
VERSION:2.0
BEGIN:VEVENT
DESCRIPTION:Details:\nhttps://bbyo.org/bbyo-near-you/regions/kentucky-indi
 ana-ohio-region/columbus-summer-send-off-senior-lives
DTEND:20230523T203000
DTSTAMP:20260419T190417Z
DTSTART:20230523T180000
LOCATION:Josh Eisenberg's House
SEQUENCE:0
SUMMARY:Columbus' Summer Send Off + Senior Lives
UID:00f0e216-fe8f-4f82-8962-4eaf86b0761e
END:VEVENT
END:VCALENDAR
