BEGIN:VCALENDAR
PRODID:-//github.com/rianjs/ical.net//NONSGML ical.net 4.0//EN
VERSION:2.0
BEGIN:VEVENT
DESCRIPTION:Details:\nhttps://bbyo.org/bbyo-near-you/regions/ohio-northern
 -region/j-serve-walk-with-a-purpose\n\nSummary:\nSince 2005\, J-Serve has
  provided teens with a unique opportunity for teens to band together thro
 ugh service as a united global network committed to fulfilling the Jewish
  values of gemilut ch
DTEND:20200329T120000
DTSTAMP:20260423T200215Z
DTSTART:20200329T100000
LOCATION:Beachwood Ohio
SEQUENCE:0
SUMMARY:J-Serve: Walk with a Purpose
UID:8af7b170-405b-4b3f-9aac-fd90b1d557aa
END:VEVENT
END:VCALENDAR
