BEGIN:VCALENDAR
PRODID:-//github.com/rianjs/ical.net//NONSGML ical.net 4.0//EN
VERSION:2.0
BEGIN:VEVENT
DESCRIPTION:Details:\nhttps://bbyo.org/bbyo-near-you/regions/wisconsin-reg
 ion/wisc-gbd
DTEND;VALUE=DATE:20231129
DTSTAMP:20260423T042653Z
DTSTART:20231128T200000
LOCATION:
SEQUENCE:0
SUMMARY:wisc gbd
UID:9568a3ef-0aae-4cec-9e90-d8139c1668c7
END:VEVENT
END:VCALENDAR
