BEGIN:VCALENDAR
PRODID:-//github.com/rianjs/ical.net//NONSGML ical.net 4.0//EN
VERSION:2.0
BEGIN:VEVENT
DESCRIPTION:Details:\nhttps://bbyo.org/bbyo-near-you/regions/lonestar-regi
 on/ghc-azaa-week-2
DTEND:20180902T200000
DTSTAMP:20260425T200924Z
DTSTART:20180902T180000
LOCATION:Houston Texas
SEQUENCE:0
SUMMARY:GHC AZAA Week 2
UID:c3b7b484-e36c-40c8-a8d5-2b33c6a23f62
END:VEVENT
END:VCALENDAR
