BEGIN:VCALENDAR
PRODID:-//github.com/rianjs/ical.net//NONSGML ical.net 4.0//EN
VERSION:2.0
BEGIN:VEVENT
DESCRIPTION:Details:\nhttps://bbyo.org/bbyo-near-you/regions/wisconsin-reg
 ion/wi-wrc-2018-red\,-white-booyah\n\nSummary:\nWisconsin Region's Annual
  Spirit Convention - chapter vs chapter in the pursuit of life\, liberty\
 , and VICTORY!!
DTEND:20181202T150000
DTSTAMP:20260421T163629Z
DTSTART:20181130T160000
LOCATION:
SEQUENCE:0
SUMMARY:WI - WRC 2018: RED\, WHITE & BOOYAH
UID:952c2143-f538-4d9b-a536-a09344b122c0
END:VEVENT
END:VCALENDAR
