BEGIN:VCALENDAR
PRODID:-//github.com/rianjs/ical.net//NONSGML ical.net 4.0//EN
VERSION:2.0
BEGIN:VEVENT
DESCRIPTION:Details:\nhttps://bbyo.org/bbyo-near-you/regions/mountain-regi
 on/phx-spring-kickoff-at-mavrix
DTEND:20220307T200000
DTSTAMP:20260425T215645Z
DTSTART:20220307T173000
LOCATION:Mavrix Talking Stick
SEQUENCE:0
SUMMARY:PHX Spring Kickoff at Mavrix
UID:4ed5a25d-523c-4691-b44b-cf2abe682d6b
END:VEVENT
END:VCALENDAR
