BEGIN:VCALENDAR
PRODID:-//github.com/rianjs/ical.net//NONSGML ical.net 4.0//EN
VERSION:2.0
BEGIN:VEVENT
DESCRIPTION:Details:\nhttps://bbyo.org/bbyo-near-you/regions/kentucky-indi
 ana-ohio-region/columbus-bbyo-parent-open-house
DTEND:20230910T200000
DTSTAMP:20260421T163616Z
DTSTART:20230910T190000
LOCATION:Bexley Ohio
SEQUENCE:0
SUMMARY:Columbus BBYO Parent Open House
UID:7a05a67c-ca5d-4ddc-943a-cc021344ca72
END:VEVENT
END:VCALENDAR
