BEGIN:VCALENDAR
PRODID:-//github.com/rianjs/ical.net//NONSGML ical.net 4.0//EN
VERSION:2.0
BEGIN:VEVENT
DESCRIPTION:Details:\nhttps://bbyo.org/bbyo-near-you/regions/mountain-regi
 on/scottsdale-open-house-and-parent-info-night
DTEND:20181119T203000
DTSTAMP:20260423T200924Z
DTSTART:20181119T190000
LOCATION:Scottsdale  Arizona
SEQUENCE:0
SUMMARY:Scottsdale Open House and Parent Info Night
UID:1189ae62-41d2-491e-8766-b7a849a60659
END:VEVENT
END:VCALENDAR
