BEGIN:VCALENDAR
PRODID:-//github.com/rianjs/ical.net//NONSGML ical.net 4.0//EN
VERSION:2.0
BEGIN:VEVENT
DESCRIPTION:Details:\nhttps://bbyo.org/bbyo-near-you/regions/big-apple-reg
 ion/bar-joins-sjr-for-dinner-in-nyc\n\nSummary:\nCome join us in Manhatta
 n for dinner with Southern Jersey Region at Buca Di Beppo.\n\nEvent costs
  $26. Please note\, we will not be providing transportation.\n\nAny quest
 ions contact Rob Kappel (
DTEND:20191107T200000
DTSTAMP:20260422T113737Z
DTSTART:20191107T173000
LOCATION:New York City New York
SEQUENCE:0
SUMMARY:BAR Joins SJR for Dinner in NYC
UID:bd69c265-73ca-44cd-9231-a3643dc9701a
END:VEVENT
END:VCALENDAR
